BEGIN:VCALENDAR
VERSION:2.0
PRODID:-//Oak Bay High School - ECPv6.2.8.1//NONSGML v1.0//EN
CALSCALE:GREGORIAN
METHOD:PUBLISH
X-WR-CALNAME:Oak Bay High School
X-ORIGINAL-URL:https://oakbay.sd61.bc.ca
X-WR-CALDESC:Events for Oak Bay High School
REFRESH-INTERVAL;VALUE=DURATION:PT1H
X-Robots-Tag:noindex
X-PUBLISHED-TTL:PT1H
BEGIN:VTIMEZONE
TZID:America/Vancouver
BEGIN:DAYLIGHT
TZOFFSETFROM:-0800
TZOFFSETTO:-0700
TZNAME:PDT
DTSTART:20160313T100000
END:DAYLIGHT
BEGIN:STANDARD
TZOFFSETFROM:-0700
TZOFFSETTO:-0800
TZNAME:PST
DTSTART:20161106T090000
END:STANDARD
END:VTIMEZONE
BEGIN:VEVENT
DTSTART;VALUE=DATE:20161009
DTEND;VALUE=DATE:20161017
DTSTAMP:20260423T044203
CREATED:20160623T164231Z
LAST-MODIFIED:20160623T164231Z
UID:10457-1475971200-1476662399@oakbay.sd61.bc.ca
SUMMARY:Marine Bio trip to Baja
DESCRIPTION:
URL:https://oakbay.sd61.bc.ca/calendar-event/marine-bio-trip-to-baja/
END:VEVENT
BEGIN:VEVENT
DTSTART;VALUE=DATE:20161010
DTEND;VALUE=DATE:20161011
DTSTAMP:20260423T044203
CREATED:20160623T164357Z
LAST-MODIFIED:20160623T164357Z
UID:10458-1476057600-1476143999@oakbay.sd61.bc.ca
SUMMARY:Thanksgiving Day (no classes in session)
DESCRIPTION:
URL:https://oakbay.sd61.bc.ca/calendar-event/thanksgiving-day-no-classes-in-session/
END:VEVENT
BEGIN:VEVENT
DTSTART;VALUE=DATE:20161013
DTEND;VALUE=DATE:20161014
DTSTAMP:20260423T044203
CREATED:20160623T164502Z
LAST-MODIFIED:20160623T164502Z
UID:10459-1476316800-1476403199@oakbay.sd61.bc.ca
SUMMARY:Choir Concert
DESCRIPTION:
URL:https://oakbay.sd61.bc.ca/calendar-event/choir-concert-2/
END:VEVENT
BEGIN:VEVENT
DTSTART;VALUE=DATE:20161017
DTEND;VALUE=DATE:20161018
DTSTAMP:20260423T044203
CREATED:20160623T164940Z
LAST-MODIFIED:20160623T164940Z
UID:10461-1476662400-1476748799@oakbay.sd61.bc.ca
SUMMARY:Post Secondary Options Meeting for Parents & Students 7:00pm
DESCRIPTION:
URL:https://oakbay.sd61.bc.ca/calendar-event/post-secondary-options-meeting-for-parents-students-700pm/
END:VEVENT
BEGIN:VEVENT
DTSTART;VALUE=DATE:20161019
DTEND;VALUE=DATE:20161020
DTSTAMP:20260423T044203
CREATED:20160623T165052Z
LAST-MODIFIED:20160623T165052Z
UID:10462-1476835200-1476921599@oakbay.sd61.bc.ca
SUMMARY:PSAT Testing 8:00am till Noon
DESCRIPTION:
URL:https://oakbay.sd61.bc.ca/calendar-event/psat-testing-800am-till-noon/
END:VEVENT
BEGIN:VEVENT
DTSTART;VALUE=DATE:20161021
DTEND;VALUE=DATE:20161022
DTSTAMP:20260423T044203
CREATED:20160623T165135Z
LAST-MODIFIED:20160623T165135Z
UID:10463-1477008000-1477094399@oakbay.sd61.bc.ca
SUMMARY:Pro D (no school in session)
DESCRIPTION:
URL:https://oakbay.sd61.bc.ca/calendar-event/pro-d-no-school-in-session-8/
END:VEVENT
BEGIN:VEVENT
DTSTART;VALUE=DATE:20161024
DTEND;VALUE=DATE:20161025
DTSTAMP:20260423T044203
CREATED:20160922T182549Z
LAST-MODIFIED:20160922T182549Z
UID:10741-1477267200-1477353599@oakbay.sd61.bc.ca
SUMMARY:Pac Meeting 7-9 pm
DESCRIPTION:
URL:https://oakbay.sd61.bc.ca/calendar-event/pac-meeting-7-9-pm-2/
END:VEVENT
BEGIN:VEVENT
DTSTART;VALUE=DATE:20161024
DTEND;VALUE=DATE:20161028
DTSTAMP:20260423T044203
CREATED:20160623T165213Z
LAST-MODIFIED:20160623T165213Z
UID:10464-1477267200-1477612799@oakbay.sd61.bc.ca
SUMMARY:Grad Photos Taken
DESCRIPTION:
URL:https://oakbay.sd61.bc.ca/calendar-event/grad-photos-taken/
END:VEVENT
BEGIN:VEVENT
DTSTART;VALUE=DATE:20161025
DTEND;VALUE=DATE:20161026
DTSTAMP:20260423T044203
CREATED:20160623T165237Z
LAST-MODIFIED:20160623T165237Z
UID:10465-1477353600-1477439999@oakbay.sd61.bc.ca
SUMMARY:Band Concert
DESCRIPTION:
URL:https://oakbay.sd61.bc.ca/calendar-event/band-concert-2/
END:VEVENT
BEGIN:VEVENT
DTSTART;VALUE=DATE:20161026
DTEND;VALUE=DATE:20161027
DTSTAMP:20260423T044203
CREATED:20160623T165306Z
LAST-MODIFIED:20160623T165306Z
UID:10466-1477440000-1477526399@oakbay.sd61.bc.ca
SUMMARY:Parent Teacher Conferences
DESCRIPTION:
URL:https://oakbay.sd61.bc.ca/calendar-event/parent-teacher-conferences-2/
END:VEVENT
BEGIN:VEVENT
DTSTART;VALUE=DATE:20161026
DTEND;VALUE=DATE:20161027
DTSTAMP:20260423T044203
CREATED:20161017T164442Z
LAST-MODIFIED:20161017T164442Z
UID:10951-1477440000-1477526399@oakbay.sd61.bc.ca
SUMMARY:Pac Meeting at 7PM in the Library
DESCRIPTION:
URL:https://oakbay.sd61.bc.ca/calendar-event/pac-meeting-at-7pm-in-the-library/
END:VEVENT
BEGIN:VEVENT
DTSTART;VALUE=DATE:20161031
DTEND;VALUE=DATE:20161101
DTSTAMP:20260423T044203
CREATED:20160829T191400Z
LAST-MODIFIED:20160829T191400Z
UID:10573-1477872000-1477958399@oakbay.sd61.bc.ca
SUMMARY:Halloween
DESCRIPTION:
URL:https://oakbay.sd61.bc.ca/calendar-event/halloween-3/
END:VEVENT
END:VCALENDAR