BEGIN:VCALENDAR
VERSION:2.0
PRODID:-//Oak Bay High School - ECPv6.2.8.1//NONSGML v1.0//EN
CALSCALE:GREGORIAN
METHOD:PUBLISH
X-WR-CALNAME:Oak Bay High School
X-ORIGINAL-URL:https://oakbay.sd61.bc.ca
X-WR-CALDESC:Events for Oak Bay High School
REFRESH-INTERVAL;VALUE=DURATION:PT1H
X-Robots-Tag:noindex
X-PUBLISHED-TTL:PT1H
BEGIN:VTIMEZONE
TZID:America/Vancouver
BEGIN:DAYLIGHT
TZOFFSETFROM:-0800
TZOFFSETTO:-0700
TZNAME:PDT
DTSTART:20150308T100000
END:DAYLIGHT
BEGIN:STANDARD
TZOFFSETFROM:-0700
TZOFFSETTO:-0800
TZNAME:PST
DTSTART:20151101T090000
END:STANDARD
END:VTIMEZONE
BEGIN:VEVENT
DTSTART;VALUE=DATE:20151102
DTEND;VALUE=DATE:20151103
DTSTAMP:20260425T153234
CREATED:20151021T155406Z
LAST-MODIFIED:20151021T155406Z
UID:8387-1446422400-1446508799@oakbay.sd61.bc.ca
SUMMARY:Deadline for new course submissions
DESCRIPTION:
URL:https://oakbay.sd61.bc.ca/calendar-event/deadline-for-new-course-submissions/
END:VEVENT
BEGIN:VEVENT
DTSTART;VALUE=DATE:20151102
DTEND;VALUE=DATE:20151103
DTSTAMP:20260425T153234
CREATED:20151021T155432Z
LAST-MODIFIED:20151021T155432Z
UID:8388-1446422400-1446508799@oakbay.sd61.bc.ca
SUMMARY:Photo Retakes
DESCRIPTION:
URL:https://oakbay.sd61.bc.ca/calendar-event/photo-retakes-3/
END:VEVENT
BEGIN:VEVENT
DTSTART;TZID=America/Vancouver:20151102T153000
DTEND;TZID=America/Vancouver:20151102T163000
DTSTAMP:20260425T153234
CREATED:20151021T155226Z
LAST-MODIFIED:20151021T155318Z
UID:8386-1446478200-1446481800@oakbay.sd61.bc.ca
SUMMARY:Dept. Head Meeting @ 3:30pm
DESCRIPTION:
URL:https://oakbay.sd61.bc.ca/calendar-event/dept-head-meeting-2/
END:VEVENT
BEGIN:VEVENT
DTSTART;TZID=America/Vancouver:20151103T190000
DTEND;TZID=America/Vancouver:20151103T190000
DTSTAMP:20260425T153234
CREATED:20151021T155731Z
LAST-MODIFIED:20151021T155731Z
UID:8390-1446577200-1446577200@oakbay.sd61.bc.ca
SUMMARY:Jazz Affair
DESCRIPTION:
URL:https://oakbay.sd61.bc.ca/calendar-event/jazz-affair/
END:VEVENT
BEGIN:VEVENT
DTSTART;VALUE=DATE:20151105
DTEND;VALUE=DATE:20151106
DTSTAMP:20260425T153234
CREATED:20151021T160602Z
LAST-MODIFIED:20151021T160602Z
UID:8392-1446681600-1446767999@oakbay.sd61.bc.ca
SUMMARY:Team Planning and Study Hall (no block 4)
DESCRIPTION:
URL:https://oakbay.sd61.bc.ca/calendar-event/team-planning-and-study-hall-no-block-4-3/
END:VEVENT
BEGIN:VEVENT
DTSTART;VALUE=DATE:20151107
DTEND;VALUE=DATE:20151108
DTSTAMP:20260425T153234
CREATED:20151021T160915Z
LAST-MODIFIED:20151021T160915Z
UID:8393-1446854400-1446940799@oakbay.sd61.bc.ca
SUMMARY:Cross Country BC's
DESCRIPTION:
URL:https://oakbay.sd61.bc.ca/calendar-event/cross-country-bcs/
END:VEVENT
BEGIN:VEVENT
DTSTART;VALUE=DATE:20151110
DTEND;VALUE=DATE:20151111
DTSTAMP:20260425T153234
CREATED:20151021T161005Z
LAST-MODIFIED:20151021T161005Z
UID:8394-1447113600-1447199999@oakbay.sd61.bc.ca
SUMMARY:Remembrance Day Assembly
DESCRIPTION:
URL:https://oakbay.sd61.bc.ca/calendar-event/remembrance-day-assembly/
END:VEVENT
BEGIN:VEVENT
DTSTART;VALUE=DATE:20151111
DTEND;VALUE=DATE:20151112
DTSTAMP:20260425T153234
CREATED:20150526T174708Z
LAST-MODIFIED:20150526T190845Z
UID:7399-1447200000-1447286399@oakbay.sd61.bc.ca
SUMMARY:Remembrance Day - No school in session
DESCRIPTION:
URL:https://oakbay.sd61.bc.ca/calendar-event/remembrance-day/
END:VEVENT
BEGIN:VEVENT
DTSTART;VALUE=DATE:20151111
DTEND;VALUE=DATE:20151112
DTSTAMP:20260425T153234
CREATED:20151021T161058Z
LAST-MODIFIED:20151021T161058Z
UID:8395-1447200000-1447286399@oakbay.sd61.bc.ca
SUMMARY:Remembrance Day  (No School in session)
DESCRIPTION:
URL:https://oakbay.sd61.bc.ca/calendar-event/remembrance-day-no-school-in-session/
END:VEVENT
BEGIN:VEVENT
DTSTART;VALUE=DATE:20151111
DTEND;VALUE=DATE:20151112
DTSTAMP:20260425T153234
CREATED:20151021T161154Z
LAST-MODIFIED:20151021T161154Z
UID:8396-1447200000-1447286399@oakbay.sd61.bc.ca
SUMMARY:Brass Ensemble at Oak Bay Cenotaph
DESCRIPTION:
URL:https://oakbay.sd61.bc.ca/calendar-event/brass-ensemble-at-oak-bay-cenotaph-3/
END:VEVENT
BEGIN:VEVENT
DTSTART;VALUE=DATE:20151111
DTEND;VALUE=DATE:20151114
DTSTAMP:20260425T153234
CREATED:20151021T161313Z
LAST-MODIFIED:20151021T161313Z
UID:8397-1447200000-1447459199@oakbay.sd61.bc.ca
SUMMARY:Field Hockey BC's
DESCRIPTION:
URL:https://oakbay.sd61.bc.ca/calendar-event/field-hockey-bcs/
END:VEVENT
BEGIN:VEVENT
DTSTART;TZID=America/Vancouver:20151117T153000
DTEND;TZID=America/Vancouver:20151117T163000
DTSTAMP:20260425T153234
CREATED:20151021T161448Z
LAST-MODIFIED:20151021T161448Z
UID:8399-1447774200-1447777800@oakbay.sd61.bc.ca
SUMMARY:Staff Meeting @ 3:30pm
DESCRIPTION:
URL:https://oakbay.sd61.bc.ca/calendar-event/staff-meeting-330pm/
END:VEVENT
BEGIN:VEVENT
DTSTART;VALUE=DATE:20151119
DTEND;VALUE=DATE:20151120
DTSTAMP:20260425T153234
CREATED:20151021T161534Z
LAST-MODIFIED:20151021T161534Z
UID:8400-1447891200-1447977599@oakbay.sd61.bc.ca
SUMMARY:Team Planning and Study Hall (No Block 3)
DESCRIPTION:
URL:https://oakbay.sd61.bc.ca/calendar-event/team-planning-and-study-hall-no-block-3-3/
END:VEVENT
BEGIN:VEVENT
DTSTART;VALUE=DATE:20151119
DTEND;VALUE=DATE:20151122
DTSTAMP:20260425T153234
CREATED:20151021T161829Z
LAST-MODIFIED:20151021T161829Z
UID:8404-1447891200-1448150399@oakbay.sd61.bc.ca
SUMMARY:Boys Soccer BC's
DESCRIPTION:
URL:https://oakbay.sd61.bc.ca/calendar-event/boys-soccer-bcs/
END:VEVENT
BEGIN:VEVENT
DTSTART;VALUE=DATE:20151119
DTEND;VALUE=DATE:20151221
DTSTAMP:20260425T153234
CREATED:20160104T200056Z
LAST-MODIFIED:20160104T200056Z
UID:9000-1447891200-1450655999@oakbay.sd61.bc.ca
SUMMARY:Evening Of Dance (7:00 PM)
DESCRIPTION:
URL:https://oakbay.sd61.bc.ca/calendar-event/evening-of-dance-700-pm/
END:VEVENT
BEGIN:VEVENT
DTSTART;VALUE=DATE:20151120
DTEND;VALUE=DATE:20151121
DTSTAMP:20260425T153234
CREATED:20150526T183625Z
LAST-MODIFIED:20150526T183625Z
UID:7416-1447977600-1448063999@oakbay.sd61.bc.ca
SUMMARY:Pro-D – No School in Session
DESCRIPTION:
URL:https://oakbay.sd61.bc.ca/calendar-event/pro-d-no-school-in-session-3/
END:VEVENT
BEGIN:VEVENT
DTSTART;VALUE=DATE:20151120
DTEND;VALUE=DATE:20151122
DTSTAMP:20260425T153234
CREATED:20151021T161902Z
LAST-MODIFIED:20151021T161902Z
UID:8405-1447977600-1448150399@oakbay.sd61.bc.ca
SUMMARY:Auquatics BC's
DESCRIPTION:
URL:https://oakbay.sd61.bc.ca/calendar-event/auquatics-bcs/
END:VEVENT
BEGIN:VEVENT
DTSTART;VALUE=DATE:20151120
DTEND;VALUE=DATE:20151122
DTSTAMP:20260425T153234
CREATED:20151109T170127Z
LAST-MODIFIED:20151109T170127Z
UID:8574-1447977600-1448150399@oakbay.sd61.bc.ca
SUMMARY:Sr. Vollyball Islands
DESCRIPTION:
URL:https://oakbay.sd61.bc.ca/calendar-event/sr-vollyball-islands-2/
END:VEVENT
BEGIN:VEVENT
DTSTART;TZID=America/Vancouver:20151123T190000
DTEND;TZID=America/Vancouver:20151123T190000
DTSTAMP:20260425T153234
CREATED:20151021T161957Z
LAST-MODIFIED:20151021T161957Z
UID:8406-1448305200-1448305200@oakbay.sd61.bc.ca
SUMMARY:Application to Post Secondary Theatre
DESCRIPTION:
URL:https://oakbay.sd61.bc.ca/calendar-event/application-to-post-secondary-theatre/
END:VEVENT
BEGIN:VEVENT
DTSTART;VALUE=DATE:20151127
DTEND;VALUE=DATE:20151128
DTSTAMP:20260425T153234
CREATED:20151005T201153Z
LAST-MODIFIED:20151005T201153Z
UID:8296-1448582400-1448668799@oakbay.sd61.bc.ca
SUMMARY:Fine Arts Alumni Evening
DESCRIPTION:
URL:https://oakbay.sd61.bc.ca/calendar-event/fine-arts-alumni-evening/
END:VEVENT
BEGIN:VEVENT
DTSTART;VALUE=DATE:20151127
DTEND;VALUE=DATE:20151128
DTSTAMP:20260425T153234
CREATED:20151021T162023Z
LAST-MODIFIED:20151021T162023Z
UID:8407-1448582400-1448668799@oakbay.sd61.bc.ca
SUMMARY:Official Term End
DESCRIPTION:
URL:https://oakbay.sd61.bc.ca/calendar-event/official-term-end/
END:VEVENT
BEGIN:VEVENT
DTSTART;VALUE=DATE:20151130
DTEND;VALUE=DATE:20151201
DTSTAMP:20260425T153234
CREATED:20151021T162115Z
LAST-MODIFIED:20151021T162115Z
UID:8409-1448841600-1448927999@oakbay.sd61.bc.ca
SUMMARY:Marks due to BCeSIS by 11pm
DESCRIPTION:
URL:https://oakbay.sd61.bc.ca/calendar-event/marks-due-to-bcesis-by-11pm/
END:VEVENT
END:VCALENDAR