BEGIN:VCALENDAR
VERSION:2.0
PRODID:-//Oak Bay High School - ECPv6.2.8.1//NONSGML v1.0//EN
CALSCALE:GREGORIAN
METHOD:PUBLISH
X-ORIGINAL-URL:https://oakbay.sd61.bc.ca
X-WR-CALDESC:Events for Oak Bay High School
REFRESH-INTERVAL;VALUE=DURATION:PT1H
X-Robots-Tag:noindex
X-PUBLISHED-TTL:PT1H
BEGIN:VTIMEZONE
TZID:America/Vancouver
BEGIN:DAYLIGHT
TZOFFSETFROM:-0800
TZOFFSETTO:-0700
TZNAME:PDT
DTSTART:20150308T100000
END:DAYLIGHT
BEGIN:STANDARD
TZOFFSETFROM:-0700
TZOFFSETTO:-0800
TZNAME:PST
DTSTART:20151101T090000
END:STANDARD
END:VTIMEZONE
BEGIN:VEVENT
DTSTART;VALUE=DATE:20150908
DTEND;VALUE=DATE:20150909
DTSTAMP:20260425T211846
CREATED:20150526T150029Z
LAST-MODIFIED:20150628T233449Z
UID:7392-1441670400-1441756799@oakbay.sd61.bc.ca
SUMMARY:First Day of 2015-16 School year In Our New School
DESCRIPTION:
URL:https://oakbay.sd61.bc.ca/calendar-event/first-day-of-2015-16-school-year-in-our-new-school/
END:VEVENT
BEGIN:VEVENT
DTSTART;VALUE=DATE:20150921
DTEND;VALUE=DATE:20150922
DTSTAMP:20260425T211846
CREATED:20150526T183518Z
LAST-MODIFIED:20150526T183518Z
UID:7414-1442793600-1442879999@oakbay.sd61.bc.ca
SUMMARY:Pro-D – No School in Session
DESCRIPTION:
URL:https://oakbay.sd61.bc.ca/calendar-event/pro-d-no-school-in-session/
END:VEVENT
END:VCALENDAR