BEGIN:VCALENDAR
VERSION:2.0
PRODID:-//Oak Bay High School - ECPv6.2.8.1//NONSGML v1.0//EN
CALSCALE:GREGORIAN
METHOD:PUBLISH
X-WR-CALNAME:Oak Bay High School
X-ORIGINAL-URL:https://oakbay.sd61.bc.ca
X-WR-CALDESC:Events for Oak Bay High School
REFRESH-INTERVAL;VALUE=DURATION:PT1H
X-Robots-Tag:noindex
X-PUBLISHED-TTL:PT1H
BEGIN:VTIMEZONE
TZID:America/Vancouver
BEGIN:DAYLIGHT
TZOFFSETFROM:-0800
TZOFFSETTO:-0700
TZNAME:PDT
DTSTART:20160313T100000
END:DAYLIGHT
BEGIN:STANDARD
TZOFFSETFROM:-0700
TZOFFSETTO:-0800
TZNAME:PST
DTSTART:20161106T090000
END:STANDARD
END:VTIMEZONE
BEGIN:VEVENT
DTSTART;VALUE=DATE:20160519
DTEND;VALUE=DATE:20160520
DTSTAMP:20260420T204909
CREATED:20160210T180857Z
LAST-MODIFIED:20160210T180916Z
UID:9361-1463616000-1463702399@oakbay.sd61.bc.ca
SUMMARY:Team Planning and Study Hall (No Block 1)
DESCRIPTION:
URL:https://oakbay.sd61.bc.ca/calendar-event/team-planning-and-study-hall-no-block-1-2/
END:VEVENT
BEGIN:VEVENT
DTSTART;VALUE=DATE:20160519
DTEND;VALUE=DATE:20160520
DTSTAMP:20260420T204909
CREATED:20160118T214050Z
LAST-MODIFIED:20160428T163313Z
UID:9119-1463616000-1463702399@oakbay.sd61.bc.ca
SUMMARY:District Transition Day (Afternoon)
DESCRIPTION:
URL:https://oakbay.sd61.bc.ca/calendar-event/district-transition-day-afternoon-2/
END:VEVENT
BEGIN:VEVENT
DTSTART;VALUE=DATE:20160517
DTEND;VALUE=DATE:20160518
DTSTAMP:20260420T204909
CREATED:20160210T180801Z
LAST-MODIFIED:20160210T180801Z
UID:9360-1463443200-1463529599@oakbay.sd61.bc.ca
SUMMARY:Band Concert @ 7:00pm
DESCRIPTION:
URL:https://oakbay.sd61.bc.ca/calendar-event/band-concert-700pm/
END:VEVENT
BEGIN:VEVENT
DTSTART;VALUE=DATE:20160513
DTEND;VALUE=DATE:20160514
DTSTAMP:20260420T204909
CREATED:20160115T172917Z
LAST-MODIFIED:20160115T172917Z
UID:9107-1463097600-1463183999@oakbay.sd61.bc.ca
SUMMARY:Grad Dinner and Dance at Laurel Point Inn
DESCRIPTION:
URL:https://oakbay.sd61.bc.ca/calendar-event/grad-dinner-and-dance-at-laurel-point-inn/
END:VEVENT
BEGIN:VEVENT
DTSTART;VALUE=DATE:20160511
DTEND;VALUE=DATE:20160512
DTSTAMP:20260420T204909
CREATED:20160210T180631Z
LAST-MODIFIED:20160210T180631Z
UID:9358-1462924800-1463011199@oakbay.sd61.bc.ca
SUMMARY:AP Test English Composition
DESCRIPTION:
URL:https://oakbay.sd61.bc.ca/calendar-event/ap-test-english-composition/
END:VEVENT
BEGIN:VEVENT
DTSTART;VALUE=DATE:20160510
DTEND;VALUE=DATE:20160513
DTSTAMP:20260420T204909
CREATED:20160210T180724Z
LAST-MODIFIED:20160210T180724Z
UID:9359-1462838400-1463097599@oakbay.sd61.bc.ca
SUMMARY:Evening of Dance
DESCRIPTION:
URL:https://oakbay.sd61.bc.ca/calendar-event/evening-of-dance/
END:VEVENT
BEGIN:VEVENT
DTSTART;VALUE=DATE:20160510
DTEND;VALUE=DATE:20160511
DTSTAMP:20260420T204909
CREATED:20160210T180552Z
LAST-MODIFIED:20160210T180552Z
UID:9357-1462838400-1462924799@oakbay.sd61.bc.ca
SUMMARY:Staff Meeting @ 3:30pm
DESCRIPTION:
URL:https://oakbay.sd61.bc.ca/calendar-event/staff-meeting-330pm-4/
END:VEVENT
BEGIN:VEVENT
DTSTART;VALUE=DATE:20160506
DTEND;VALUE=DATE:20160507
DTSTAMP:20260420T204909
CREATED:20160210T174922Z
LAST-MODIFIED:20160210T174922Z
UID:9352-1462492800-1462579199@oakbay.sd61.bc.ca
SUMMARY:AP Test Studio Art Portfolios Submitted by NOON
DESCRIPTION:
URL:https://oakbay.sd61.bc.ca/calendar-event/ap-test-studio-art-portfolios-submitted-by-noon/
END:VEVENT
BEGIN:VEVENT
DTSTART;VALUE=DATE:20160505
DTEND;VALUE=DATE:20160506
DTSTAMP:20260420T204909
CREATED:20160210T174700Z
LAST-MODIFIED:20160210T174700Z
UID:9351-1462406400-1462492799@oakbay.sd61.bc.ca
SUMMARY:Team Planning and Study Hall (No Block 4)
DESCRIPTION:
URL:https://oakbay.sd61.bc.ca/calendar-event/team-planning-and-study-hall-no-block-4-6/
END:VEVENT
BEGIN:VEVENT
DTSTART;VALUE=DATE:20160505
DTEND;VALUE=DATE:20160506
DTSTAMP:20260420T204909
CREATED:20160210T174618Z
LAST-MODIFIED:20160210T174618Z
UID:9350-1462406400-1462492799@oakbay.sd61.bc.ca
SUMMARY:AP Test Calculus
DESCRIPTION:
URL:https://oakbay.sd61.bc.ca/calendar-event/ap-test-calculus-2/
END:VEVENT
BEGIN:VEVENT
DTSTART;VALUE=DATE:20160504
DTEND;VALUE=DATE:20160505
DTSTAMP:20260420T204909
CREATED:20160210T174500Z
LAST-MODIFIED:20160210T174500Z
UID:9349-1462320000-1462406399@oakbay.sd61.bc.ca
SUMMARY:AP Test English Literature
DESCRIPTION:
URL:https://oakbay.sd61.bc.ca/calendar-event/ap-test-english-literature/
END:VEVENT
BEGIN:VEVENT
DTSTART;VALUE=DATE:20160503
DTEND;VALUE=DATE:20160504
DTSTAMP:20260420T204909
CREATED:20160210T174411Z
LAST-MODIFIED:20160210T174411Z
UID:9348-1462233600-1462319999@oakbay.sd61.bc.ca
SUMMARY:Grade 9 Immunizations (Round 2)
DESCRIPTION:
URL:https://oakbay.sd61.bc.ca/calendar-event/grade-9-immunizations-round-2/
END:VEVENT
BEGIN:VEVENT
DTSTART;VALUE=DATE:20160503
DTEND;VALUE=DATE:20160504
DTSTAMP:20260420T204909
CREATED:20160210T174313Z
LAST-MODIFIED:20160210T174313Z
UID:9347-1462233600-1462319999@oakbay.sd61.bc.ca
SUMMARY:Staff Committee Meeting@ 3:30pm
DESCRIPTION:
URL:https://oakbay.sd61.bc.ca/calendar-event/staff-committee-meeting-330pm-4/
END:VEVENT
BEGIN:VEVENT
DTSTART;VALUE=DATE:20160503
DTEND;VALUE=DATE:20160504
DTSTAMP:20260420T204909
CREATED:20160210T174230Z
LAST-MODIFIED:20160210T174230Z
UID:9346-1462233600-1462319999@oakbay.sd61.bc.ca
SUMMARY:Physics Trip to Playland
DESCRIPTION:
URL:https://oakbay.sd61.bc.ca/calendar-event/physics-trip-to-playland-2/
END:VEVENT
BEGIN:VEVENT
DTSTART;VALUE=DATE:20160428
DTEND;VALUE=DATE:20160502
DTSTAMP:20260420T204909
CREATED:20160210T174034Z
LAST-MODIFIED:20160425T181641Z
UID:9344-1461801600-1462147199@oakbay.sd61.bc.ca
SUMMARY:Grade 9 Band Trip to Whistler Apr. 28- May 1st
DESCRIPTION:
URL:https://oakbay.sd61.bc.ca/calendar-event/grade-9-band-trip-apr-21-24/
END:VEVENT
BEGIN:VEVENT
DTSTART;VALUE=DATE:20160427
DTEND;VALUE=DATE:20160428
DTSTAMP:20260420T204909
CREATED:20160210T174103Z
LAST-MODIFIED:20160210T174103Z
UID:9345-1461715200-1461801599@oakbay.sd61.bc.ca
SUMMARY:Dept. Head Retreat
DESCRIPTION:
URL:https://oakbay.sd61.bc.ca/calendar-event/dept-head-retreat/
END:VEVENT
BEGIN:VEVENT
DTSTART;VALUE=DATE:20160421
DTEND;VALUE=DATE:20160422
DTSTAMP:20260420T204909
CREATED:20160413T233713Z
LAST-MODIFIED:20160413T233713Z
UID:9791-1461196800-1461283199@oakbay.sd61.bc.ca
SUMMARY:Choir Spring Sing @ 7:00pm
DESCRIPTION:
URL:https://oakbay.sd61.bc.ca/calendar-event/choir-spring-sing-700pm-2/
END:VEVENT
BEGIN:VEVENT
DTSTART;VALUE=DATE:20160421
DTEND;VALUE=DATE:20160422
DTSTAMP:20260420T204909
CREATED:20160210T173849Z
LAST-MODIFIED:20160210T173849Z
UID:9343-1461196800-1461283199@oakbay.sd61.bc.ca
SUMMARY:District Career Fair @ SJ Willis
DESCRIPTION:
URL:https://oakbay.sd61.bc.ca/calendar-event/district-career-fair-sj-willis-2/
END:VEVENT
BEGIN:VEVENT
DTSTART;VALUE=DATE:20160421
DTEND;VALUE=DATE:20160422
DTSTAMP:20260420T204909
CREATED:20160210T173807Z
LAST-MODIFIED:20160210T173807Z
UID:9342-1461196800-1461283199@oakbay.sd61.bc.ca
SUMMARY:Team Planning and Study Hall ( No Block 3)
DESCRIPTION:
URL:https://oakbay.sd61.bc.ca/calendar-event/team-planning-and-study-hall-no-block-3-5/
END:VEVENT
BEGIN:VEVENT
DTSTART;VALUE=DATE:20160419
DTEND;VALUE=DATE:20160420
DTSTAMP:20260420T204909
CREATED:20151021T181721Z
LAST-MODIFIED:20151021T181721Z
UID:8412-1461024000-1461110399@oakbay.sd61.bc.ca
SUMMARY:Jazz Band to Nanaimo
DESCRIPTION:
URL:https://oakbay.sd61.bc.ca/calendar-event/jazz-band-to-nanaimo/
END:VEVENT
BEGIN:VEVENT
DTSTART;VALUE=DATE:20160414
DTEND;VALUE=DATE:20160415
DTSTAMP:20260420T204909
CREATED:20160210T173624Z
LAST-MODIFIED:20160413T205721Z
UID:9340-1460592000-1460678399@oakbay.sd61.bc.ca
SUMMARY:Grade 9 Speak Out (Block 4)
DESCRIPTION:
URL:https://oakbay.sd61.bc.ca/calendar-event/grade-9-speak-out/
END:VEVENT
BEGIN:VEVENT
DTSTART;VALUE=DATE:20160412
DTEND;VALUE=DATE:20160414
DTSTAMP:20260420T204909
CREATED:20160210T173559Z
LAST-MODIFIED:20160210T173559Z
UID:9339-1460419200-1460591999@oakbay.sd61.bc.ca
SUMMARY:Choir Festival
DESCRIPTION:
URL:https://oakbay.sd61.bc.ca/calendar-event/choir-festival/
END:VEVENT
BEGIN:VEVENT
DTSTART;VALUE=DATE:20160412
DTEND;VALUE=DATE:20160413
DTSTAMP:20260420T204909
CREATED:20160210T173520Z
LAST-MODIFIED:20160210T173520Z
UID:9338-1460419200-1460505599@oakbay.sd61.bc.ca
SUMMARY:Euclid Grade 12 Math Contest
DESCRIPTION:
URL:https://oakbay.sd61.bc.ca/calendar-event/euclid-grade-12-math-contest-2/
END:VEVENT
BEGIN:VEVENT
DTSTART;VALUE=DATE:20160412
DTEND;VALUE=DATE:20160413
DTSTAMP:20260420T204909
CREATED:20160210T173434Z
LAST-MODIFIED:20160210T173434Z
UID:9337-1460419200-1460505599@oakbay.sd61.bc.ca
SUMMARY:Staff meeting @ 3:30pm
DESCRIPTION:
URL:https://oakbay.sd61.bc.ca/calendar-event/staff-meeting-330pm-3/
END:VEVENT
BEGIN:VEVENT
DTSTART;VALUE=DATE:20160411
DTEND;VALUE=DATE:20160412
DTSTAMP:20260420T204909
CREATED:20160210T172858Z
LAST-MODIFIED:20160210T172858Z
UID:9336-1460332800-1460419199@oakbay.sd61.bc.ca
SUMMARY:Dept. Head Meeting @ 3:30pm
DESCRIPTION:
URL:https://oakbay.sd61.bc.ca/calendar-event/dept-head-meeting-330pm-2/
END:VEVENT
BEGIN:VEVENT
DTSTART;VALUE=DATE:20160407
DTEND;VALUE=DATE:20160408
DTSTAMP:20260420T204909
CREATED:20160210T172821Z
LAST-MODIFIED:20160210T172821Z
UID:9335-1459987200-1460073599@oakbay.sd61.bc.ca
SUMMARY:Team Planning and Study Hall (No Block 4)
DESCRIPTION:
URL:https://oakbay.sd61.bc.ca/calendar-event/team-planning-and-study-hall-no-block-4-5/
END:VEVENT
BEGIN:VEVENT
DTSTART;VALUE=DATE:20160405
DTEND;VALUE=DATE:20160406
DTSTAMP:20260420T204909
CREATED:20160210T172658Z
LAST-MODIFIED:20160210T172658Z
UID:9333-1459814400-1459900799@oakbay.sd61.bc.ca
SUMMARY:Jazz Affair @ 7:00pm
DESCRIPTION:
URL:https://oakbay.sd61.bc.ca/calendar-event/jazz-affair-700pm/
END:VEVENT
BEGIN:VEVENT
DTSTART;VALUE=DATE:20160405
DTEND;VALUE=DATE:20160406
DTSTAMP:20260420T204909
CREATED:20160210T172608Z
LAST-MODIFIED:20160210T172726Z
UID:9332-1459814400-1459900799@oakbay.sd61.bc.ca
SUMMARY:Staff Committee Meeting at 3:30pm
DESCRIPTION:
URL:https://oakbay.sd61.bc.ca/calendar-event/staff-committee-meeting-at-330pm-2/
END:VEVENT
BEGIN:VEVENT
DTSTART;VALUE=DATE:20160404
DTEND;VALUE=DATE:20160405
DTSTAMP:20260420T204909
CREATED:20151123T182156Z
LAST-MODIFIED:20151123T182219Z
UID:8723-1459728000-1459814399@oakbay.sd61.bc.ca
SUMMARY:New Curriculum Implementation Day (No classes in session)
DESCRIPTION:
URL:https://oakbay.sd61.bc.ca/calendar-event/new-curriculum-implementation-day-no-classes-in-session-2/
END:VEVENT
BEGIN:VEVENT
DTSTART;VALUE=DATE:20160330
DTEND;VALUE=DATE:20160331
DTSTAMP:20260420T204909
CREATED:20160119T182542Z
LAST-MODIFIED:20160119T182542Z
UID:9137-1459296000-1459382399@oakbay.sd61.bc.ca
SUMMARY:New Student Course Planning
DESCRIPTION:
URL:https://oakbay.sd61.bc.ca/calendar-event/new-student-course-planning-2/
END:VEVENT
END:VCALENDAR