BEGIN:VCALENDAR
VERSION:2.0
PRODID:-//Oak Bay High School - ECPv6.2.8.1//NONSGML v1.0//EN
CALSCALE:GREGORIAN
METHOD:PUBLISH
X-WR-CALNAME:Oak Bay High School
X-ORIGINAL-URL:https://oakbay.sd61.bc.ca
X-WR-CALDESC:Events for Oak Bay High School
REFRESH-INTERVAL;VALUE=DURATION:PT1H
X-Robots-Tag:noindex
X-PUBLISHED-TTL:PT1H
BEGIN:VTIMEZONE
TZID:America/Vancouver
BEGIN:DAYLIGHT
TZOFFSETFROM:-0800
TZOFFSETTO:-0700
TZNAME:PDT
DTSTART:20160313T100000
END:DAYLIGHT
BEGIN:STANDARD
TZOFFSETFROM:-0700
TZOFFSETTO:-0800
TZNAME:PST
DTSTART:20161106T090000
END:STANDARD
END:VTIMEZONE
BEGIN:VEVENT
DTSTART;VALUE=DATE:20160201
DTEND;VALUE=DATE:20160202
DTSTAMP:20260425T074420
CREATED:20160104T200904Z
LAST-MODIFIED:20160104T200904Z
UID:9008-1454284800-1454371199@oakbay.sd61.bc.ca
SUMMARY:Dept Head Meeting (3:30 PM)
DESCRIPTION:
URL:https://oakbay.sd61.bc.ca/calendar-event/dept-head-meeting-330-pm/
END:VEVENT
BEGIN:VEVENT
DTSTART;VALUE=DATE:20160202
DTEND;VALUE=DATE:20160203
DTSTAMP:20260425T074420
CREATED:20160104T200952Z
LAST-MODIFIED:20160104T200952Z
UID:9009-1454371200-1454457599@oakbay.sd61.bc.ca
SUMMARY:Staff Committee Meeting (3:30 PM)
DESCRIPTION:
URL:https://oakbay.sd61.bc.ca/calendar-event/staff-committee-meeting-330-pm/
END:VEVENT
BEGIN:VEVENT
DTSTART;TZID=America/Vancouver:20160202T190000
DTEND;TZID=America/Vancouver:20160202T190000
DTSTAMP:20260425T074420
CREATED:20151102T182009Z
LAST-MODIFIED:20151102T182009Z
UID:8505-1454439600-1454439600@oakbay.sd61.bc.ca
SUMMARY:Band Concert 7pm
DESCRIPTION:
URL:https://oakbay.sd61.bc.ca/calendar-event/band-concert-7pm/
END:VEVENT
BEGIN:VEVENT
DTSTART;VALUE=DATE:20160203
DTEND;VALUE=DATE:20160204
DTSTAMP:20260425T074420
CREATED:20160104T201129Z
LAST-MODIFIED:20160104T201519Z
UID:9010-1454457600-1454543999@oakbay.sd61.bc.ca
SUMMARY:Course Planning Assemblies Grade 9's Block 3\, Grade 10's Block 4\, Grade 11's Block 5.
DESCRIPTION:
URL:https://oakbay.sd61.bc.ca/calendar-event/course-planning-assemblies-9s-blk-3-10s-blk-4-11s-blk-5/
END:VEVENT
BEGIN:VEVENT
DTSTART;VALUE=DATE:20160205
DTEND;VALUE=DATE:20160206
DTSTAMP:20260425T074420
CREATED:20160104T201616Z
LAST-MODIFIED:20160104T201616Z
UID:9011-1454630400-1454716799@oakbay.sd61.bc.ca
SUMMARY:Course Selection (Extra Session)
DESCRIPTION:
URL:https://oakbay.sd61.bc.ca/calendar-event/course-selection-extra-session/
END:VEVENT
BEGIN:VEVENT
DTSTART;VALUE=DATE:20160208
DTEND;VALUE=DATE:20160209
DTSTAMP:20260425T074420
CREATED:20150526T175005Z
LAST-MODIFIED:20150526T190806Z
UID:7402-1454889600-1454975999@oakbay.sd61.bc.ca
SUMMARY:Family Day - No school in session
DESCRIPTION:
URL:https://oakbay.sd61.bc.ca/calendar-event/family-day-no-school-in-session/
END:VEVENT
BEGIN:VEVENT
DTSTART;VALUE=DATE:20160209
DTEND;VALUE=DATE:20160210
DTSTAMP:20260425T074420
CREATED:20160104T202110Z
LAST-MODIFIED:20160104T202110Z
UID:9012-1454976000-1455062399@oakbay.sd61.bc.ca
SUMMARY:Staff Meeting (3:30 PM)
DESCRIPTION:
URL:https://oakbay.sd61.bc.ca/calendar-event/staff-meeting-330-pm/
END:VEVENT
BEGIN:VEVENT
DTSTART;VALUE=DATE:20160211
DTEND;VALUE=DATE:20160212
DTSTAMP:20260425T074420
CREATED:20160104T202204Z
LAST-MODIFIED:20160104T202204Z
UID:9013-1455148800-1455235199@oakbay.sd61.bc.ca
SUMMARY:Team Planning and Study Hall (No Block 4)
DESCRIPTION:
URL:https://oakbay.sd61.bc.ca/calendar-event/team-planning-and-study-hall-no-block-4-4/
END:VEVENT
BEGIN:VEVENT
DTSTART;VALUE=DATE:20160211
DTEND;VALUE=DATE:20160212
DTSTAMP:20260425T074420
CREATED:20160104T202242Z
LAST-MODIFIED:20160104T202242Z
UID:9014-1455148800-1455235199@oakbay.sd61.bc.ca
SUMMARY:Valedictorian Assembly
DESCRIPTION:
URL:https://oakbay.sd61.bc.ca/calendar-event/valedictorian-assembly/
END:VEVENT
BEGIN:VEVENT
DTSTART;VALUE=DATE:20160212
DTEND;VALUE=DATE:20160213
DTSTAMP:20260425T074420
CREATED:20160104T202334Z
LAST-MODIFIED:20160104T202334Z
UID:9016-1455235200-1455321599@oakbay.sd61.bc.ca
SUMMARY:Course Selection (Extra Session)
DESCRIPTION:
URL:https://oakbay.sd61.bc.ca/calendar-event/course-selection-extra-session-2/
END:VEVENT
BEGIN:VEVENT
DTSTART;VALUE=DATE:20160216
DTEND;VALUE=DATE:20160217
DTSTAMP:20260425T074420
CREATED:20160104T202404Z
LAST-MODIFIED:20160104T202404Z
UID:9017-1455580800-1455667199@oakbay.sd61.bc.ca
SUMMARY:Musical Middle School Matinee
DESCRIPTION:
URL:https://oakbay.sd61.bc.ca/calendar-event/musical-middle-school-matinee-2/
END:VEVENT
BEGIN:VEVENT
DTSTART;VALUE=DATE:20160218
DTEND;VALUE=DATE:20160219
DTSTAMP:20260425T074420
CREATED:20160104T202433Z
LAST-MODIFIED:20160104T202433Z
UID:9018-1455753600-1455839999@oakbay.sd61.bc.ca
SUMMARY:Official End of Term 2
DESCRIPTION:
URL:https://oakbay.sd61.bc.ca/calendar-event/official-end-of-term-2/
END:VEVENT
BEGIN:VEVENT
DTSTART;VALUE=DATE:20160219
DTEND;VALUE=DATE:20160220
DTSTAMP:20260425T074420
CREATED:20150526T183653Z
LAST-MODIFIED:20150526T183653Z
UID:7417-1455840000-1455926399@oakbay.sd61.bc.ca
SUMMARY:Pro-D – No School in Session
DESCRIPTION:
URL:https://oakbay.sd61.bc.ca/calendar-event/pro-d-no-school-in-session-4/
END:VEVENT
BEGIN:VEVENT
DTSTART;VALUE=DATE:20160219
DTEND;VALUE=DATE:20160220
DTSTAMP:20260425T074420
CREATED:20160104T202525Z
LAST-MODIFIED:20160104T202525Z
UID:9019-1455840000-1455926399@oakbay.sd61.bc.ca
SUMMARY:Pro D Tri District (No School in Session)
DESCRIPTION:
URL:https://oakbay.sd61.bc.ca/calendar-event/pro-d-tri-district-no-school-in-session/
END:VEVENT
BEGIN:VEVENT
DTSTART;VALUE=DATE:20160219
DTEND;VALUE=DATE:20160222
DTSTAMP:20260425T074420
CREATED:20160104T202636Z
LAST-MODIFIED:20160104T202724Z
UID:9020-1455840000-1456099199@oakbay.sd61.bc.ca
SUMMARY:School Musical (7:30 PM)
DESCRIPTION:
URL:https://oakbay.sd61.bc.ca/calendar-event/school-musical-730-pm/
END:VEVENT
BEGIN:VEVENT
DTSTART;VALUE=DATE:20160222
DTEND;VALUE=DATE:20160223
DTSTAMP:20260425T074420
CREATED:20160104T203108Z
LAST-MODIFIED:20160104T203108Z
UID:9021-1456099200-1456185599@oakbay.sd61.bc.ca
SUMMARY:Marks due to My Ed BC by 11PM
DESCRIPTION:
URL:https://oakbay.sd61.bc.ca/calendar-event/marks-due-to-my-ed-bc-by-11pm/
END:VEVENT
BEGIN:VEVENT
DTSTART;VALUE=DATE:20160223
DTEND;VALUE=DATE:20160224
DTSTAMP:20260425T074420
CREATED:20160104T203155Z
LAST-MODIFIED:20160104T203155Z
UID:9022-1456185600-1456271999@oakbay.sd61.bc.ca
SUMMARY:Office Print Report Cards
DESCRIPTION:
URL:https://oakbay.sd61.bc.ca/calendar-event/office-print-report-cards-2/
END:VEVENT
BEGIN:VEVENT
DTSTART;VALUE=DATE:20160224
DTEND;VALUE=DATE:20160225
DTSTAMP:20260425T074420
CREATED:20160104T203234Z
LAST-MODIFIED:20160104T203234Z
UID:9023-1456272000-1456358399@oakbay.sd61.bc.ca
SUMMARY:Inserts Due by 12pm
DESCRIPTION:
URL:https://oakbay.sd61.bc.ca/calendar-event/inserts-due-by-12pm/
END:VEVENT
BEGIN:VEVENT
DTSTART;VALUE=DATE:20160224
DTEND;VALUE=DATE:20160225
DTSTAMP:20260425T074420
CREATED:20160104T203338Z
LAST-MODIFIED:20160104T203338Z
UID:9024-1456272000-1456358399@oakbay.sd61.bc.ca
SUMMARY:Math Contests  Pascal (9)  Cayley (10)  Fermat (11)
DESCRIPTION:
URL:https://oakbay.sd61.bc.ca/calendar-event/math-contests-pascal-9-cayley-10-fermat-11/
END:VEVENT
BEGIN:VEVENT
DTSTART;VALUE=DATE:20160224
DTEND;VALUE=DATE:20160225
DTSTAMP:20260425T074420
CREATED:20160210T212134Z
LAST-MODIFIED:20160210T212134Z
UID:9397-1456272000-1456358399@oakbay.sd61.bc.ca
SUMMARY:Pink Shirt Day
DESCRIPTION:
URL:https://oakbay.sd61.bc.ca/calendar-event/pink-shirt-day/
END:VEVENT
BEGIN:VEVENT
DTSTART;VALUE=DATE:20160224
DTEND;VALUE=DATE:20160228
DTSTAMP:20260425T074420
CREATED:20160104T203611Z
LAST-MODIFIED:20160104T203611Z
UID:9028-1456272000-1456617599@oakbay.sd61.bc.ca
SUMMARY:School Musical 7:30 PM
DESCRIPTION:
URL:https://oakbay.sd61.bc.ca/calendar-event/school-musical-730-pm-2/
END:VEVENT
BEGIN:VEVENT
DTSTART;VALUE=DATE:20160225
DTEND;VALUE=DATE:20160226
DTSTAMP:20260425T074420
CREATED:20160104T203419Z
LAST-MODIFIED:20160104T203419Z
UID:9025-1456358400-1456444799@oakbay.sd61.bc.ca
SUMMARY:Team Planning and Study Hall (No Block 8)
DESCRIPTION:
URL:https://oakbay.sd61.bc.ca/calendar-event/team-planning-and-study-hall-no-block-8-3/
END:VEVENT
BEGIN:VEVENT
DTSTART;VALUE=DATE:20160225
DTEND;VALUE=DATE:20160226
DTSTAMP:20260425T074420
CREATED:20160104T203514Z
LAST-MODIFIED:20160104T203514Z
UID:9026-1456358400-1456444799@oakbay.sd61.bc.ca
SUMMARY:Reports to Admin by 3:30 PM
DESCRIPTION:
URL:https://oakbay.sd61.bc.ca/calendar-event/reports-to-admin-by-330-pm-2/
END:VEVENT
BEGIN:VEVENT
DTSTART;VALUE=DATE:20160229
DTEND;VALUE=DATE:20160301
DTSTAMP:20260425T074420
CREATED:20160104T203701Z
LAST-MODIFIED:20160104T203701Z
UID:9029-1456704000-1456790399@oakbay.sd61.bc.ca
SUMMARY:Deadline for Baby Grad Submissions
DESCRIPTION:
URL:https://oakbay.sd61.bc.ca/calendar-event/deadline-for-baby-grad-submissions/
END:VEVENT
BEGIN:VEVENT
DTSTART;VALUE=DATE:20160301
DTEND;VALUE=DATE:20160302
DTSTAMP:20260425T074420
CREATED:20160118T213754Z
LAST-MODIFIED:20160118T213830Z
UID:9117-1456790400-1456876799@oakbay.sd61.bc.ca
SUMMARY:Staff Committee Meeting at 3:30pm
DESCRIPTION:
URL:https://oakbay.sd61.bc.ca/calendar-event/staff-committee-meeting-at-330pm/
END:VEVENT
BEGIN:VEVENT
DTSTART;VALUE=DATE:20160302
DTEND;VALUE=DATE:20160306
DTSTAMP:20260425T074420
CREATED:20160119T181356Z
LAST-MODIFIED:20160119T181356Z
UID:9127-1456876800-1457222399@oakbay.sd61.bc.ca
SUMMARY:Girls Basketball BC's
DESCRIPTION:
URL:https://oakbay.sd61.bc.ca/calendar-event/girls-basketball-bcs/
END:VEVENT
BEGIN:VEVENT
DTSTART;VALUE=DATE:20160303
DTEND;VALUE=DATE:20160304
DTSTAMP:20260425T074420
CREATED:20160119T181253Z
LAST-MODIFIED:20160229T192524Z
UID:9126-1456963200-1456963200@oakbay.sd61.bc.ca
SUMMARY:BandFest @ Uvic
DESCRIPTION:
URL:https://oakbay.sd61.bc.ca/calendar-event/bandfest-uvic/
END:VEVENT
BEGIN:VEVENT
DTSTART;VALUE=DATE:20160308
DTEND;VALUE=DATE:20160309
DTSTAMP:20260425T074420
CREATED:20160119T181436Z
LAST-MODIFIED:20160119T181436Z
UID:9128-1457395200-1457481599@oakbay.sd61.bc.ca
SUMMARY:Staff Meeting @ 3:30pm
DESCRIPTION:
URL:https://oakbay.sd61.bc.ca/calendar-event/staff-meeting-330pm-2/
END:VEVENT
BEGIN:VEVENT
DTSTART;VALUE=DATE:20160309
DTEND;VALUE=DATE:20160310
DTSTAMP:20260425T074420
CREATED:20160119T181500Z
LAST-MODIFIED:20160119T181500Z
UID:9129-1457481600-1457567999@oakbay.sd61.bc.ca
SUMMARY:Locker Cleanout
DESCRIPTION:
URL:https://oakbay.sd61.bc.ca/calendar-event/locker-cleanout/
END:VEVENT
BEGIN:VEVENT
DTSTART;VALUE=DATE:20160309
DTEND;VALUE=DATE:20160313
DTSTAMP:20260425T074420
CREATED:20160119T181739Z
LAST-MODIFIED:20160119T181739Z
UID:9133-1457481600-1457827199@oakbay.sd61.bc.ca
SUMMARY:Boys Basketball BC's
DESCRIPTION:
URL:https://oakbay.sd61.bc.ca/calendar-event/boys-basketball-bcs/
END:VEVENT
END:VCALENDAR