BEGIN:VCALENDAR
VERSION:2.0
PRODID:-//Oak Bay High School - ECPv6.2.8.1//NONSGML v1.0//EN
CALSCALE:GREGORIAN
METHOD:PUBLISH
X-WR-CALNAME:Oak Bay High School
X-ORIGINAL-URL:https://oakbay.sd61.bc.ca
X-WR-CALDESC:Events for Oak Bay High School
REFRESH-INTERVAL;VALUE=DURATION:PT1H
X-Robots-Tag:noindex
X-PUBLISHED-TTL:PT1H
BEGIN:VTIMEZONE
TZID:America/Vancouver
BEGIN:DAYLIGHT
TZOFFSETFROM:-0800
TZOFFSETTO:-0700
TZNAME:PDT
DTSTART:20150308T100000
END:DAYLIGHT
BEGIN:STANDARD
TZOFFSETFROM:-0700
TZOFFSETTO:-0800
TZNAME:PST
DTSTART:20151101T090000
END:STANDARD
END:VTIMEZONE
BEGIN:VEVENT
DTSTART;TZID=America/Vancouver:20151005T153000
DTEND;TZID=America/Vancouver:20151005T163000
DTSTAMP:20260425T195546
CREATED:20151005T182112Z
LAST-MODIFIED:20151005T182112Z
UID:8276-1444059000-1444062600@oakbay.sd61.bc.ca
SUMMARY:Dept Head Meeting
DESCRIPTION:
URL:https://oakbay.sd61.bc.ca/calendar-event/dept-head-meeting/
END:VEVENT
BEGIN:VEVENT
DTSTART;TZID=America/Vancouver:20151006T153000
DTEND;TZID=America/Vancouver:20151006T163000
DTSTAMP:20260425T195546
CREATED:20151005T182003Z
LAST-MODIFIED:20151005T182033Z
UID:8275-1444145400-1444149000@oakbay.sd61.bc.ca
SUMMARY:Staff Committee Meeting
DESCRIPTION:
URL:https://oakbay.sd61.bc.ca/calendar-event/staff-committee-meeting/
END:VEVENT
BEGIN:VEVENT
DTSTART;VALUE=DATE:20151008
DTEND;VALUE=DATE:20151009
DTSTAMP:20260425T195546
CREATED:20151005T194154Z
LAST-MODIFIED:20151005T194234Z
UID:8277-1444262400-1444348799@oakbay.sd61.bc.ca
SUMMARY:Team Planning and Study Hall (no block 4)
DESCRIPTION:
URL:https://oakbay.sd61.bc.ca/calendar-event/team-planning-and-study-hall-no-block-4-2/
END:VEVENT
BEGIN:VEVENT
DTSTART;VALUE=DATE:20151012
DTEND;VALUE=DATE:20151013
DTSTAMP:20260425T195546
CREATED:20150526T174626Z
LAST-MODIFIED:20150526T191314Z
UID:7398-1444608000-1444694399@oakbay.sd61.bc.ca
SUMMARY:Thanksgiving - No school in session
DESCRIPTION:
URL:https://oakbay.sd61.bc.ca/calendar-event/thanksgiving/
END:VEVENT
BEGIN:VEVENT
DTSTART;TZID=America/Vancouver:20151013T153000
DTEND;TZID=America/Vancouver:20151013T163000
DTSTAMP:20260425T195546
CREATED:20151005T194530Z
LAST-MODIFIED:20151005T194530Z
UID:8278-1444750200-1444753800@oakbay.sd61.bc.ca
SUMMARY:Staff Meeting (in the cafeteria)
DESCRIPTION:
URL:https://oakbay.sd61.bc.ca/calendar-event/staff-meeting-in-the-cafeteria/
END:VEVENT
BEGIN:VEVENT
DTSTART;VALUE=DATE:20151014
DTEND;VALUE=DATE:20151015
DTSTAMP:20260425T195546
CREATED:20151005T194942Z
LAST-MODIFIED:20151005T194942Z
UID:8281-1444780800-1444867199@oakbay.sd61.bc.ca
SUMMARY:Grade 9 Immunizations
DESCRIPTION:
URL:https://oakbay.sd61.bc.ca/calendar-event/grade-9-immunizations-4/
END:VEVENT
BEGIN:VEVENT
DTSTART;TZID=America/Vancouver:20151014T080000
DTEND;TZID=America/Vancouver:20151014T120000
DTSTAMP:20260425T195546
CREATED:20151005T194853Z
LAST-MODIFIED:20151005T194853Z
UID:8280-1444809600-1444824000@oakbay.sd61.bc.ca
SUMMARY:PSAT Tests
DESCRIPTION:
URL:https://oakbay.sd61.bc.ca/calendar-event/psat-tests/
END:VEVENT
BEGIN:VEVENT
DTSTART;VALUE=DATE:20151015
DTEND;VALUE=DATE:20151016
DTSTAMP:20260425T195546
CREATED:20151005T200948Z
LAST-MODIFIED:20151005T200948Z
UID:8294-1444867200-1444953599@oakbay.sd61.bc.ca
SUMMARY:Jr. Jazz Band Intensive
DESCRIPTION:
URL:https://oakbay.sd61.bc.ca/calendar-event/jr-jazz-band-intensive/
END:VEVENT
BEGIN:VEVENT
DTSTART;VALUE=DATE:20151015
DTEND;VALUE=DATE:20151016
DTSTAMP:20260425T195546
CREATED:20151005T201113Z
LAST-MODIFIED:20151005T201113Z
UID:8295-1444867200-1444953599@oakbay.sd61.bc.ca
SUMMARY:BC Shakeout Drill
DESCRIPTION:
URL:https://oakbay.sd61.bc.ca/calendar-event/bc-shakeout-drill-2/
END:VEVENT
BEGIN:VEVENT
DTSTART;TZID=America/Vancouver:20151020T190000
DTEND;TZID=America/Vancouver:20151020T190000
DTSTAMP:20260425T195546
CREATED:20151005T195523Z
LAST-MODIFIED:20151015T185607Z
UID:8283-1445367600-1445367600@oakbay.sd61.bc.ca
SUMMARY:Post Secondary Meeting
DESCRIPTION:
URL:https://oakbay.sd61.bc.ca/calendar-event/post-secondary-meeting/
END:VEVENT
BEGIN:VEVENT
DTSTART;TZID=America/Vancouver:20151021T190000
DTEND;TZID=America/Vancouver:20151021T190000
DTSTAMP:20260425T195546
CREATED:20151005T195654Z
LAST-MODIFIED:20151005T195654Z
UID:8284-1445454000-1445454000@oakbay.sd61.bc.ca
SUMMARY:Choir Concert
DESCRIPTION:
URL:https://oakbay.sd61.bc.ca/calendar-event/choir-concert/
END:VEVENT
BEGIN:VEVENT
DTSTART;VALUE=DATE:20151022
DTEND;VALUE=DATE:20151023
DTSTAMP:20260425T195546
CREATED:20151005T195817Z
LAST-MODIFIED:20151005T195817Z
UID:8285-1445472000-1445558399@oakbay.sd61.bc.ca
SUMMARY:Team Planning and Study Hall (no block 8)
DESCRIPTION:
URL:https://oakbay.sd61.bc.ca/calendar-event/team-planning-and-study-hall-no-block-8-2/
END:VEVENT
BEGIN:VEVENT
DTSTART;VALUE=DATE:20151022
DTEND;VALUE=DATE:20151023
DTSTAMP:20260425T195546
CREATED:20151005T195852Z
LAST-MODIFIED:20151005T195852Z
UID:8286-1445472000-1445558399@oakbay.sd61.bc.ca
SUMMARY:Interim Reports Go Home
DESCRIPTION:
URL:https://oakbay.sd61.bc.ca/calendar-event/interim-reports-go-home/
END:VEVENT
BEGIN:VEVENT
DTSTART;VALUE=DATE:20151023
DTEND;VALUE=DATE:20151024
DTSTAMP:20260425T195546
CREATED:20150526T183601Z
LAST-MODIFIED:20150526T183601Z
UID:7415-1445558400-1445644799@oakbay.sd61.bc.ca
SUMMARY:Pro-D – No School in Session
DESCRIPTION:
URL:https://oakbay.sd61.bc.ca/calendar-event/pro-d-no-school-in-session-2/
END:VEVENT
BEGIN:VEVENT
DTSTART;VALUE=DATE:20151027
DTEND;VALUE=DATE:20151028
DTSTAMP:20260425T195546
CREATED:20151005T200043Z
LAST-MODIFIED:20151005T200043Z
UID:8288-1445904000-1445990399@oakbay.sd61.bc.ca
SUMMARY:Grade 9 Immunizations (for missed students)
DESCRIPTION:
URL:https://oakbay.sd61.bc.ca/calendar-event/grade-9-immunizations-for-missed-students/
END:VEVENT
BEGIN:VEVENT
DTSTART;TZID=America/Vancouver:20151027T190000
DTEND;TZID=America/Vancouver:20151027T190000
DTSTAMP:20260425T195546
CREATED:20151005T195956Z
LAST-MODIFIED:20151005T195956Z
UID:8287-1445972400-1445972400@oakbay.sd61.bc.ca
SUMMARY:Band Concert
DESCRIPTION:
URL:https://oakbay.sd61.bc.ca/calendar-event/band-concert/
END:VEVENT
BEGIN:VEVENT
DTSTART;VALUE=DATE:20151028
DTEND;VALUE=DATE:20151029
DTSTAMP:20260425T195546
CREATED:20151005T200515Z
LAST-MODIFIED:20151026T235249Z
UID:8289-1445990400-1446076799@oakbay.sd61.bc.ca
SUMMARY:Parent Teacher Conferences in Main Gym (Dismissal 12:40pm)
DESCRIPTION:
URL:https://oakbay.sd61.bc.ca/calendar-event/parent-teacher-conferences-dismissal-120/
LOCATION:Main Gym
END:VEVENT
BEGIN:VEVENT
DTSTART;VALUE=DATE:20151029
DTEND;VALUE=DATE:20151030
DTSTAMP:20260425T195546
CREATED:20151005T200739Z
LAST-MODIFIED:20151005T200739Z
UID:8292-1446076800-1446163199@oakbay.sd61.bc.ca
SUMMARY:Yearbook Purchase Deadline
DESCRIPTION:
URL:https://oakbay.sd61.bc.ca/calendar-event/yearbook-purchase-deadline-3/
END:VEVENT
BEGIN:VEVENT
DTSTART;TZID=America/Vancouver:20151029T190000
DTEND;TZID=America/Vancouver:20151029T220000
DTSTAMP:20260425T195546
CREATED:20151005T200703Z
LAST-MODIFIED:20151005T200703Z
UID:8291-1446145200-1446156000@oakbay.sd61.bc.ca
SUMMARY:Halloween Dance
DESCRIPTION:
URL:https://oakbay.sd61.bc.ca/calendar-event/halloween-dance-2/
END:VEVENT
BEGIN:VEVENT
DTSTART;VALUE=DATE:20151031
DTEND;VALUE=DATE:20151101
DTSTAMP:20260425T195546
CREATED:20151005T200820Z
LAST-MODIFIED:20151005T200820Z
UID:8293-1446249600-1446335999@oakbay.sd61.bc.ca
SUMMARY:Halloween
DESCRIPTION:
URL:https://oakbay.sd61.bc.ca/calendar-event/halloween-2/
END:VEVENT
BEGIN:VEVENT
DTSTART;VALUE=DATE:20151102
DTEND;VALUE=DATE:20151103
DTSTAMP:20260425T195546
CREATED:20151021T155406Z
LAST-MODIFIED:20151021T155406Z
UID:8387-1446422400-1446508799@oakbay.sd61.bc.ca
SUMMARY:Deadline for new course submissions
DESCRIPTION:
URL:https://oakbay.sd61.bc.ca/calendar-event/deadline-for-new-course-submissions/
END:VEVENT
BEGIN:VEVENT
DTSTART;VALUE=DATE:20151102
DTEND;VALUE=DATE:20151103
DTSTAMP:20260425T195546
CREATED:20151021T155432Z
LAST-MODIFIED:20151021T155432Z
UID:8388-1446422400-1446508799@oakbay.sd61.bc.ca
SUMMARY:Photo Retakes
DESCRIPTION:
URL:https://oakbay.sd61.bc.ca/calendar-event/photo-retakes-3/
END:VEVENT
BEGIN:VEVENT
DTSTART;TZID=America/Vancouver:20151102T153000
DTEND;TZID=America/Vancouver:20151102T163000
DTSTAMP:20260425T195546
CREATED:20151021T155226Z
LAST-MODIFIED:20151021T155318Z
UID:8386-1446478200-1446481800@oakbay.sd61.bc.ca
SUMMARY:Dept. Head Meeting @ 3:30pm
DESCRIPTION:
URL:https://oakbay.sd61.bc.ca/calendar-event/dept-head-meeting-2/
END:VEVENT
BEGIN:VEVENT
DTSTART;TZID=America/Vancouver:20151103T190000
DTEND;TZID=America/Vancouver:20151103T190000
DTSTAMP:20260425T195546
CREATED:20151021T155731Z
LAST-MODIFIED:20151021T155731Z
UID:8390-1446577200-1446577200@oakbay.sd61.bc.ca
SUMMARY:Jazz Affair
DESCRIPTION:
URL:https://oakbay.sd61.bc.ca/calendar-event/jazz-affair/
END:VEVENT
BEGIN:VEVENT
DTSTART;VALUE=DATE:20151105
DTEND;VALUE=DATE:20151106
DTSTAMP:20260425T195546
CREATED:20151021T160602Z
LAST-MODIFIED:20151021T160602Z
UID:8392-1446681600-1446767999@oakbay.sd61.bc.ca
SUMMARY:Team Planning and Study Hall (no block 4)
DESCRIPTION:
URL:https://oakbay.sd61.bc.ca/calendar-event/team-planning-and-study-hall-no-block-4-3/
END:VEVENT
BEGIN:VEVENT
DTSTART;VALUE=DATE:20151107
DTEND;VALUE=DATE:20151108
DTSTAMP:20260425T195546
CREATED:20151021T160915Z
LAST-MODIFIED:20151021T160915Z
UID:8393-1446854400-1446940799@oakbay.sd61.bc.ca
SUMMARY:Cross Country BC's
DESCRIPTION:
URL:https://oakbay.sd61.bc.ca/calendar-event/cross-country-bcs/
END:VEVENT
BEGIN:VEVENT
DTSTART;VALUE=DATE:20151110
DTEND;VALUE=DATE:20151111
DTSTAMP:20260425T195546
CREATED:20151021T161005Z
LAST-MODIFIED:20151021T161005Z
UID:8394-1447113600-1447199999@oakbay.sd61.bc.ca
SUMMARY:Remembrance Day Assembly
DESCRIPTION:
URL:https://oakbay.sd61.bc.ca/calendar-event/remembrance-day-assembly/
END:VEVENT
BEGIN:VEVENT
DTSTART;VALUE=DATE:20151111
DTEND;VALUE=DATE:20151112
DTSTAMP:20260425T195546
CREATED:20150526T174708Z
LAST-MODIFIED:20150526T190845Z
UID:7399-1447200000-1447286399@oakbay.sd61.bc.ca
SUMMARY:Remembrance Day - No school in session
DESCRIPTION:
URL:https://oakbay.sd61.bc.ca/calendar-event/remembrance-day/
END:VEVENT
BEGIN:VEVENT
DTSTART;VALUE=DATE:20151111
DTEND;VALUE=DATE:20151112
DTSTAMP:20260425T195546
CREATED:20151021T161058Z
LAST-MODIFIED:20151021T161058Z
UID:8395-1447200000-1447286399@oakbay.sd61.bc.ca
SUMMARY:Remembrance Day  (No School in session)
DESCRIPTION:
URL:https://oakbay.sd61.bc.ca/calendar-event/remembrance-day-no-school-in-session/
END:VEVENT
BEGIN:VEVENT
DTSTART;VALUE=DATE:20151111
DTEND;VALUE=DATE:20151112
DTSTAMP:20260425T195546
CREATED:20151021T161154Z
LAST-MODIFIED:20151021T161154Z
UID:8396-1447200000-1447286399@oakbay.sd61.bc.ca
SUMMARY:Brass Ensemble at Oak Bay Cenotaph
DESCRIPTION:
URL:https://oakbay.sd61.bc.ca/calendar-event/brass-ensemble-at-oak-bay-cenotaph-3/
END:VEVENT
END:VCALENDAR