BEGIN:VCALENDAR
VERSION:2.0
PRODID:-//Oak Bay High School - ECPv6.2.8.1//NONSGML v1.0//EN
CALSCALE:GREGORIAN
METHOD:PUBLISH
X-WR-CALNAME:Oak Bay High School
X-ORIGINAL-URL:https://oakbay.sd61.bc.ca
X-WR-CALDESC:Events for Oak Bay High School
REFRESH-INTERVAL;VALUE=DURATION:PT1H
X-Robots-Tag:noindex
X-PUBLISHED-TTL:PT1H
BEGIN:VTIMEZONE
TZID:America/Vancouver
BEGIN:DAYLIGHT
TZOFFSETFROM:-0800
TZOFFSETTO:-0700
TZNAME:PDT
DTSTART:20180311T100000
END:DAYLIGHT
BEGIN:STANDARD
TZOFFSETFROM:-0700
TZOFFSETTO:-0800
TZNAME:PST
DTSTART:20181104T090000
END:STANDARD
END:VTIMEZONE
BEGIN:VEVENT
DTSTART;VALUE=DATE:20180516
DTEND;VALUE=DATE:20180522
DTSTAMP:20260421T162311
CREATED:20171017T194652Z
LAST-MODIFIED:20171017T194652Z
UID:12995-1526428800-1526947199@oakbay.sd61.bc.ca
SUMMARY:Band Trip
DESCRIPTION:
URL:https://oakbay.sd61.bc.ca/calendar-event/band-trip/
END:VEVENT
BEGIN:VEVENT
DTSTART;VALUE=DATE:20180521
DTEND;VALUE=DATE:20180522
DTSTAMP:20260421T162311
CREATED:20170310T210546Z
LAST-MODIFIED:20170310T210546Z
UID:11709-1526860800-1526947199@oakbay.sd61.bc.ca
SUMMARY:Victoria Day (No school in session)
DESCRIPTION:
URL:https://oakbay.sd61.bc.ca/calendar-event/victoria-day-no-school-in-session-4/
END:VEVENT
BEGIN:VEVENT
DTSTART;VALUE=DATE:20180521
DTEND;VALUE=DATE:20180522
DTSTAMP:20260421T162311
CREATED:20171017T194721Z
LAST-MODIFIED:20171017T194721Z
UID:12997-1526860800-1526947199@oakbay.sd61.bc.ca
SUMMARY:Victoria Day (No Classes)
DESCRIPTION:
URL:https://oakbay.sd61.bc.ca/calendar-event/victoria-day-no-classes-2/
END:VEVENT
END:VCALENDAR