BEGIN:VCALENDAR
VERSION:2.0
PRODID:-//Oak Bay High School - ECPv6.2.8.1//NONSGML v1.0//EN
CALSCALE:GREGORIAN
METHOD:PUBLISH
X-WR-CALNAME:Oak Bay High School
X-ORIGINAL-URL:https://oakbay.sd61.bc.ca
X-WR-CALDESC:Events for Oak Bay High School
REFRESH-INTERVAL;VALUE=DURATION:PT1H
X-Robots-Tag:noindex
X-PUBLISHED-TTL:PT1H
BEGIN:VTIMEZONE
TZID:America/Vancouver
BEGIN:DAYLIGHT
TZOFFSETFROM:-0800
TZOFFSETTO:-0700
TZNAME:PDT
DTSTART:20160313T100000
END:DAYLIGHT
BEGIN:STANDARD
TZOFFSETFROM:-0700
TZOFFSETTO:-0800
TZNAME:PST
DTSTART:20161106T090000
END:STANDARD
END:VTIMEZONE
BEGIN:VEVENT
DTSTART;VALUE=DATE:20161128
DTEND;VALUE=DATE:20161129
DTSTAMP:20260423T014153
CREATED:20160922T182618Z
LAST-MODIFIED:20160922T182618Z
UID:10743-1480291200-1480377599@oakbay.sd61.bc.ca
SUMMARY:Pac Meeting 7-9 pm
DESCRIPTION:
URL:https://oakbay.sd61.bc.ca/calendar-event/pac-meeting-7-9-pm-3/
END:VEVENT
BEGIN:VEVENT
DTSTART;VALUE=DATE:20161128
DTEND;VALUE=DATE:20161129
DTSTAMP:20260423T014153
CREATED:20161017T164509Z
LAST-MODIFIED:20161017T164509Z
UID:10953-1480291200-1480377599@oakbay.sd61.bc.ca
SUMMARY:Pac Meeting at 7PM in the Library
DESCRIPTION:
URL:https://oakbay.sd61.bc.ca/calendar-event/pac-meeting-at-7pm-in-the-library-2/
END:VEVENT
END:VCALENDAR