BEGIN:VCALENDAR
VERSION:2.0
PRODID:-//Oak Bay High School - ECPv6.2.8.1//NONSGML v1.0//EN
CALSCALE:GREGORIAN
METHOD:PUBLISH
X-ORIGINAL-URL:https://oakbay.sd61.bc.ca
X-WR-CALDESC:Events for Oak Bay High School
REFRESH-INTERVAL;VALUE=DURATION:PT1H
X-Robots-Tag:noindex
X-PUBLISHED-TTL:PT1H
BEGIN:VTIMEZONE
TZID:America/Vancouver
BEGIN:DAYLIGHT
TZOFFSETFROM:-0800
TZOFFSETTO:-0700
TZNAME:PDT
DTSTART:20160313T100000
END:DAYLIGHT
BEGIN:STANDARD
TZOFFSETFROM:-0700
TZOFFSETTO:-0800
TZNAME:PST
DTSTART:20161106T090000
END:STANDARD
END:VTIMEZONE
BEGIN:VEVENT
DTSTART;VALUE=DATE:20160906
DTEND;VALUE=DATE:20160907
DTSTAMP:20260423T091928
CREATED:20160531T154251Z
LAST-MODIFIED:20160531T154408Z
UID:10209-1473120000-1473206399@oakbay.sd61.bc.ca
SUMMARY:School Opens Beginning 2016-2017 School Year
DESCRIPTION:
URL:https://oakbay.sd61.bc.ca/calendar-event/school-opens-for-2017-17-school-year/
END:VEVENT
BEGIN:VEVENT
DTSTART;VALUE=DATE:20160906
DTEND;VALUE=DATE:20160907
DTSTAMP:20260423T091928
CREATED:20160531T155022Z
LAST-MODIFIED:20160531T155022Z
UID:10210-1473120000-1473206399@oakbay.sd61.bc.ca
SUMMARY:New Students 9:00-10:00 and all students in Advisory at 10:00
DESCRIPTION:
URL:https://oakbay.sd61.bc.ca/calendar-event/new-students-900-1000-and-all-students-in-advisory-at-1000/
END:VEVENT
BEGIN:VEVENT
DTSTART;VALUE=DATE:20160906
DTEND;VALUE=DATE:20160907
DTSTAMP:20260423T091928
CREATED:20160531T155056Z
LAST-MODIFIED:20160531T155056Z
UID:10211-1473120000-1473206399@oakbay.sd61.bc.ca
SUMMARY:C4C BBQ
DESCRIPTION:
URL:https://oakbay.sd61.bc.ca/calendar-event/c4c-bbq/
END:VEVENT
END:VCALENDAR