BEGIN:VCALENDAR
VERSION:2.0
PRODID:-//Oak Bay High School - ECPv6.2.8.1//NONSGML v1.0//EN
CALSCALE:GREGORIAN
METHOD:PUBLISH
X-ORIGINAL-URL:https://oakbay.sd61.bc.ca
X-WR-CALDESC:Events for Oak Bay High School
REFRESH-INTERVAL;VALUE=DURATION:PT1H
X-Robots-Tag:noindex
X-PUBLISHED-TTL:PT1H
BEGIN:VTIMEZONE
TZID:America/Vancouver
BEGIN:DAYLIGHT
TZOFFSETFROM:-0800
TZOFFSETTO:-0700
TZNAME:PDT
DTSTART:20160313T100000
END:DAYLIGHT
BEGIN:STANDARD
TZOFFSETFROM:-0700
TZOFFSETTO:-0800
TZNAME:PST
DTSTART:20161106T090000
END:STANDARD
END:VTIMEZONE
BEGIN:VEVENT
DTSTART;VALUE=DATE:20160310
DTEND;VALUE=DATE:20160318
DTSTAMP:20260425T075139
CREATED:20160119T181957Z
LAST-MODIFIED:20160119T181957Z
UID:9134-1457568000-1458259199@oakbay.sd61.bc.ca
SUMMARY:Choir Concert Tour to New York
DESCRIPTION:
URL:https://oakbay.sd61.bc.ca/calendar-event/choir-concert-tour-to-new-york/
END:VEVENT
BEGIN:VEVENT
DTSTART;VALUE=DATE:20160312
DTEND;VALUE=DATE:20160329
DTSTAMP:20260425T075139
CREATED:20150526T180707Z
LAST-MODIFIED:20150526T182856Z
UID:7409-1457740800-1459209599@oakbay.sd61.bc.ca
SUMMARY:Spring Break
DESCRIPTION:
URL:https://oakbay.sd61.bc.ca/calendar-event/spring-break-3/
END:VEVENT
BEGIN:VEVENT
DTSTART;VALUE=DATE:20160313
DTEND;VALUE=DATE:20160323
DTSTAMP:20260425T075139
CREATED:20160119T182220Z
LAST-MODIFIED:20160119T182220Z
UID:9135-1457827200-1458691199@oakbay.sd61.bc.ca
SUMMARY:Live Different Mexico Trip
DESCRIPTION:
URL:https://oakbay.sd61.bc.ca/calendar-event/live-different-mexico-trip/
END:VEVENT
END:VCALENDAR