BEGIN:VCALENDAR
VERSION:2.0
PRODID:-//Oak Bay High School - ECPv6.2.8.1//NONSGML v1.0//EN
CALSCALE:GREGORIAN
METHOD:PUBLISH
X-WR-CALNAME:Oak Bay High School
X-ORIGINAL-URL:https://oakbay.sd61.bc.ca
X-WR-CALDESC:Events for Oak Bay High School
REFRESH-INTERVAL;VALUE=DURATION:PT1H
X-Robots-Tag:noindex
X-PUBLISHED-TTL:PT1H
BEGIN:VTIMEZONE
TZID:America/Vancouver
BEGIN:DAYLIGHT
TZOFFSETFROM:-0800
TZOFFSETTO:-0700
TZNAME:PDT
DTSTART:20160313T100000
END:DAYLIGHT
BEGIN:STANDARD
TZOFFSETFROM:-0700
TZOFFSETTO:-0800
TZNAME:PST
DTSTART:20161106T090000
END:STANDARD
END:VTIMEZONE
BEGIN:VEVENT
DTSTART;VALUE=DATE:20160224
DTEND;VALUE=DATE:20160225
DTSTAMP:20260425T054735
CREATED:20160104T203234Z
LAST-MODIFIED:20160104T203234Z
UID:9023-1456272000-1456358399@oakbay.sd61.bc.ca
SUMMARY:Inserts Due by 12pm
DESCRIPTION:
URL:https://oakbay.sd61.bc.ca/calendar-event/inserts-due-by-12pm/
END:VEVENT
BEGIN:VEVENT
DTSTART;VALUE=DATE:20160224
DTEND;VALUE=DATE:20160225
DTSTAMP:20260425T054735
CREATED:20160104T203338Z
LAST-MODIFIED:20160104T203338Z
UID:9024-1456272000-1456358399@oakbay.sd61.bc.ca
SUMMARY:Math Contests  Pascal (9)  Cayley (10)  Fermat (11)
DESCRIPTION:
URL:https://oakbay.sd61.bc.ca/calendar-event/math-contests-pascal-9-cayley-10-fermat-11/
END:VEVENT
BEGIN:VEVENT
DTSTART;VALUE=DATE:20160224
DTEND;VALUE=DATE:20160225
DTSTAMP:20260425T054735
CREATED:20160210T212134Z
LAST-MODIFIED:20160210T212134Z
UID:9397-1456272000-1456358399@oakbay.sd61.bc.ca
SUMMARY:Pink Shirt Day
DESCRIPTION:
URL:https://oakbay.sd61.bc.ca/calendar-event/pink-shirt-day/
END:VEVENT
BEGIN:VEVENT
DTSTART;VALUE=DATE:20160224
DTEND;VALUE=DATE:20160228
DTSTAMP:20260425T054735
CREATED:20160104T203611Z
LAST-MODIFIED:20160104T203611Z
UID:9028-1456272000-1456617599@oakbay.sd61.bc.ca
SUMMARY:School Musical 7:30 PM
DESCRIPTION:
URL:https://oakbay.sd61.bc.ca/calendar-event/school-musical-730-pm-2/
END:VEVENT
END:VCALENDAR