BEGIN:VCALENDAR
VERSION:2.0
PRODID:-//Oak Bay High School - ECPv6.2.8.1//NONSGML v1.0//EN
CALSCALE:GREGORIAN
METHOD:PUBLISH
X-ORIGINAL-URL:https://oakbay.sd61.bc.ca
X-WR-CALDESC:Events for Oak Bay High School
REFRESH-INTERVAL;VALUE=DURATION:PT1H
X-Robots-Tag:noindex
X-PUBLISHED-TTL:PT1H
BEGIN:VTIMEZONE
TZID:America/Vancouver
BEGIN:DAYLIGHT
TZOFFSETFROM:-0800
TZOFFSETTO:-0700
TZNAME:PDT
DTSTART:20150308T100000
END:DAYLIGHT
BEGIN:STANDARD
TZOFFSETFROM:-0700
TZOFFSETTO:-0800
TZNAME:PST
DTSTART:20151101T090000
END:STANDARD
END:VTIMEZONE
BEGIN:VEVENT
DTSTART;VALUE=DATE:20151015
DTEND;VALUE=DATE:20151016
DTSTAMP:20260425T182009
CREATED:20151005T200948Z
LAST-MODIFIED:20151005T200948Z
UID:8294-1444867200-1444953599@oakbay.sd61.bc.ca
SUMMARY:Jr. Jazz Band Intensive
DESCRIPTION:
URL:https://oakbay.sd61.bc.ca/calendar-event/jr-jazz-band-intensive/
END:VEVENT
BEGIN:VEVENT
DTSTART;VALUE=DATE:20151015
DTEND;VALUE=DATE:20151016
DTSTAMP:20260425T182009
CREATED:20151005T201113Z
LAST-MODIFIED:20151005T201113Z
UID:8295-1444867200-1444953599@oakbay.sd61.bc.ca
SUMMARY:BC Shakeout Drill
DESCRIPTION:
URL:https://oakbay.sd61.bc.ca/calendar-event/bc-shakeout-drill-2/
END:VEVENT
END:VCALENDAR